BEGIN:VCALENDAR
VERSION:2.0
PRODID:UON Comedy Club
CALSCALE:GREGORIAN
BEGIN:VEVENT
DTSTAMP:20260423T144405Z
UID:39b250a4-0bee-4d45-83dd-7cf8f1b86208
DTSTART:20170519T090000Z
DTEND:20170519T110000Z
DESCRIPTION:It's time for our first-ever general meeting! But this meeting 
 isn't like ordinary boring club meetings because it's also a live comedy s
 how! We want to introduce the students to some of the best local comedians
  and student comedians so ten local comics will be doing their tightest 5-
 minute set\, and we're going to give audience members a chance to perform 
 too in the open mic section! Between sets\, Jarrod Moore (President) will 
 be sliding in some of his own comedy\, as well as (quickly) telling you ab
 out the club and taking votes for little things we have to organise. Your 
 input is welcome\, we're a club run by students for students\, and with yo
 ur help\, we'll be putting on pro and open mic shows every fortnight!So co
 me along on the 19th of May at 7 pm at the GT bar!$2 (or gold coin) donati
 on to support local comedy\, your club and to guarantee membership! FREE A
 DMISSION the $2 is only if you want to support us or join the club!FREE FO
 ODSEE YOU THERE!
LOCATION:Shortland Building\, Callaghan NSW 2308\, Australia
SUMMARY:IGM Showcase
URL;VALUE=URI:https://uoncomedyclub.tidyhq.com/public/schedule/events/14727
 -igm-showcase
END:VEVENT
END:VCALENDAR
